BEGIN:VCALENDAR
PRODID:-//cbt.org.nz//EN
VERSION:2.0
METHOD:PUBLISH
BEGIN:VEVENT
DTSTART;TZID=America/New_York:20151029T083000
DTEND;TZID=America/New_York:20151030T170000
URL:http://cbt.org.nz/events/calendar/anzacbt-conference/
SUMMARY:ANZACBT Conference
END:VEVENT
END:VCALENDAR