BEGIN:VCALENDAR
PRODID:-//cbt.org.nz//EN
VERSION:2.0
METHOD:PUBLISH
BEGIN:VEVENT
DTSTART;TZID=America/New_York:20190227T
DTEND;TZID=America/New_York:20190301T
URL:http://cbt.org.nz/events/calendar/
SUMMARY:Schema Therapy Training Australia:  Introductory Schema Therapy Training  “The Model, Methods, & Techniques” 
END:VEVENT
END:VCALENDAR