BEGIN:VCALENDAR
PRODID:-//cbt.org.nz//EN
VERSION:2.0
METHOD:PUBLISH
BEGIN:VEVENT
DTSTART;TZID=America/New_York:20190513T
DTEND;TZID=America/New_York:20190514T
URL:http://cbt.org.nz/events/calendar/
SUMMARY:Schema Therapy Training Australia: Schema Therapy for the Schema Therapist
END:VEVENT
END:VCALENDAR