BEGIN:VCALENDAR
PRODID:-//cbt.org.nz//EN
VERSION:2.0
METHOD:PUBLISH
BEGIN:VEVENT
DTSTART;TZID=America/New_York:20190814T
DTEND;TZID=America/New_York:20190815T
URL:http://cbt.org.nz/events/calendar/
SUMMARY:Schema Therapy Training Australia: Advanced Schema Therapy Training “Beyond the Basics
END:VEVENT
END:VCALENDAR